BEGIN:VCALENDAR
VERSION:2.0
PRODID:-//The Mustard Seed Church - ECPv6.0.2//NONSGML v1.0//EN
CALSCALE:GREGORIAN
METHOD:PUBLISH
X-WR-CALNAME:The Mustard Seed Church
X-ORIGINAL-URL:https://www.themustardseedchurch.co.uk
X-WR-CALDESC:Events for The Mustard Seed Church
REFRESH-INTERVAL;VALUE=DURATION:PT1H
X-Robots-Tag:noindex
X-PUBLISHED-TTL:PT1H
BEGIN:VTIMEZONE
TZID:Europe/London
BEGIN:DAYLIGHT
TZOFFSETFROM:+0000
TZOFFSETTO:+0100
TZNAME:BST
DTSTART:20240331T010000
END:DAYLIGHT
BEGIN:STANDARD
TZOFFSETFROM:+0100
TZOFFSETTO:+0000
TZNAME:GMT
DTSTART:20241027T010000
END:STANDARD
END:VTIMEZONE
BEGIN:VEVENT
DTSTART;TZID=Europe/London:20240121T104500
DTEND;TZID=Europe/London:20240121T120000
DTSTAMP:20260421T182658
CREATED:20240108T140232Z
LAST-MODIFIED:20240108T140232Z
UID:23998-1705833900-1705838400@www.themustardseedchurch.co.uk
SUMMARY:Humbly ask God to remove our shortcomings - Pastor Martin Bunkum
DESCRIPTION:Pastor Martin – “Humbly ask God to remove our shortcomings” \nJoin us every Sunday as we come together before our Lord Jesus Christ. You are most welcome to join us after for coffee. All are welcome.
URL:https://www.themustardseedchurch.co.uk/event/humbly-ask-god-to-remove-our-shortcomings-pastor-martin-bunkum/
ATTACH;FMTTYPE=image/jpeg:https://www.themustardseedchurch.co.uk/wp-content/uploads/2023/02/image0.jpeg
END:VEVENT
END:VCALENDAR