BEGIN:VCALENDAR
VERSION:2.0
PRODID:-//The Mustard Seed Church - ECPv6.0.2//NONSGML v1.0//EN
CALSCALE:GREGORIAN
METHOD:PUBLISH
X-WR-CALNAME:The Mustard Seed Church
X-ORIGINAL-URL:https://www.themustardseedchurch.co.uk
X-WR-CALDESC:Events for The Mustard Seed Church
REFRESH-INTERVAL;VALUE=DURATION:PT1H
X-Robots-Tag:noindex
X-PUBLISHED-TTL:PT1H
BEGIN:VTIMEZONE
TZID:Europe/London
BEGIN:DAYLIGHT
TZOFFSETFROM:+0000
TZOFFSETTO:+0100
TZNAME:BST
DTSTART:20240331T010000
END:DAYLIGHT
BEGIN:STANDARD
TZOFFSETFROM:+0100
TZOFFSETTO:+0000
TZNAME:GMT
DTSTART:20241027T010000
END:STANDARD
END:VTIMEZONE
BEGIN:VEVENT
DTSTART;TZID=Europe/London:20240128T104500
DTEND;TZID=Europe/London:20240128T120000
DTSTAMP:20260422T045123
CREATED:20240108T141013Z
LAST-MODIFIED:20240108T141118Z
UID:24002-1706438700-1706443200@www.themustardseedchurch.co.uk
SUMMARY:Consider who we have harmed - Pastor Martin Bunkum
DESCRIPTION:Pastor Martin – “Consider who we have harmed” \nJoin us every Sunday as we come together before our Lord Jesus Christ. You are most welcome to join us after for coffee. All are welcome.
URL:https://www.themustardseedchurch.co.uk/event/consider-who-we-have-harmed-pastor-martin-bunkum/
ATTACH;FMTTYPE=image/png:https://www.themustardseedchurch.co.uk/wp-content/uploads/2022/10/martin-1-e1695896081220.png
END:VEVENT
END:VCALENDAR