BEGIN:VCALENDAR
VERSION:2.0
PRODID:-//The Mustard Seed Church - ECPv6.0.2//NONSGML v1.0//EN
CALSCALE:GREGORIAN
METHOD:PUBLISH
X-WR-CALNAME:The Mustard Seed Church
X-ORIGINAL-URL:https://www.themustardseedchurch.co.uk
X-WR-CALDESC:Events for The Mustard Seed Church
REFRESH-INTERVAL;VALUE=DURATION:PT1H
X-Robots-Tag:noindex
X-PUBLISHED-TTL:PT1H
BEGIN:VTIMEZONE
TZID:Europe/London
BEGIN:DAYLIGHT
TZOFFSETFROM:+0000
TZOFFSETTO:+0100
TZNAME:BST
DTSTART:20260329T010000
END:DAYLIGHT
BEGIN:STANDARD
TZOFFSETFROM:+0100
TZOFFSETTO:+0000
TZNAME:GMT
DTSTART:20261025T010000
END:STANDARD
END:VTIMEZONE
BEGIN:VEVENT
DTSTART;TZID=Europe/London:20260510T104500
DTEND;TZID=Europe/London:20260510T120000
DTSTAMP:20260419T181341
CREATED:20260411T200510Z
LAST-MODIFIED:20260411T200510Z
UID:24782-1778409900-1778414400@www.themustardseedchurch.co.uk
SUMMARY:The Lord's Prayer: Hallowed be your name (Communion) (Pastor Martin Bunkum)
DESCRIPTION:All welcome to join us every Sunday as we come together before our Lord Jesus Christ. \nYou are most welcome to join us after the service for tea and coffee.
URL:https://www.themustardseedchurch.co.uk/event/the-lords-prayer-hallowed-be-your-name-communion-pastor-martin-bunkum/
ATTACH;FMTTYPE=image/jpeg:https://www.themustardseedchurch.co.uk/wp-content/uploads/2026/04/lords-prayer-heading.jpg
END:VEVENT
BEGIN:VEVENT
DTSTART;TZID=Europe/London:20260517T104500
DTEND;TZID=Europe/London:20260517T120000
DTSTAMP:20260419T181341
CREATED:20260411T195915Z
LAST-MODIFIED:20260411T201843Z
UID:24779-1779014700-1779019200@www.themustardseedchurch.co.uk
SUMMARY:The Lord's Prayer: Your kingdom come (Vincent Murphy)
DESCRIPTION:All welcome to join us every Sunday as we come together before our Lord Jesus Christ. \nYou are most welcome to join us after the service for tea and coffee.
URL:https://www.themustardseedchurch.co.uk/event/the-lords-prayer-your-kingdom-come-vincent-murphy/
ATTACH;FMTTYPE=image/jpeg:https://www.themustardseedchurch.co.uk/wp-content/uploads/2026/04/lords-prayer-heading.jpg
END:VEVENT
BEGIN:VEVENT
DTSTART;TZID=Europe/London:20260522T200000
DTEND;TZID=Europe/London:20260525T123000
DTSTAMP:20260419T181341
CREATED:20260411T201647Z
LAST-MODIFIED:20260411T202027Z
UID:24789-1779480000-1779712200@www.themustardseedchurch.co.uk
SUMMARY:Bush Camp at High Chapel Farm PL12 6SL (including Sunday Service)
DESCRIPTION:facebook.com/CornwallBUSH    Friday 22nd to Monday 25th.
URL:https://www.themustardseedchurch.co.uk/event/bush-camp-at-high-chapel-farm-pl12-6sl-including-sunday-service/
ATTACH;FMTTYPE=image/jpeg:https://www.themustardseedchurch.co.uk/wp-content/uploads/2026/04/Bush-camp-2026.jpg
END:VEVENT
BEGIN:VEVENT
DTSTART;TZID=Europe/London:20260531T080000
DTEND;TZID=Europe/London:20260531T120000
DTSTAMP:20260419T181341
CREATED:20260411T200707Z
LAST-MODIFIED:20260411T200707Z
UID:24785-1780214400-1780228800@www.themustardseedchurch.co.uk
SUMMARY:The Lord's Prayer: Your will be done on earth as it is in heaven (Pastor Martin Bunkum)
DESCRIPTION:All welcome to join us every Sunday as we come together before our Lord Jesus Christ. \nYou are most welcome to join us after the service for tea and coffee.
URL:https://www.themustardseedchurch.co.uk/event/the-lords-prayer-your-will-be-done-on-earth-as-it-is-in-heaven-pastor-martin-bunkum/
ATTACH;FMTTYPE=image/jpeg:https://www.themustardseedchurch.co.uk/wp-content/uploads/2026/04/lords-prayer-heading.jpg
END:VEVENT
END:VCALENDAR